BEGIN:VCALENDAR
VERSION:2.0
PRODID:-//Hårdrock för helvete - ECPv6.15.20//NONSGML v1.0//EN
CALSCALE:GREGORIAN
METHOD:PUBLISH
X-WR-CALNAME:Hårdrock för helvete
X-ORIGINAL-URL:https://www.hardrockforhelvete.com
X-WR-CALDESC:Händelser för Hårdrock för helvete
REFRESH-INTERVAL;VALUE=DURATION:PT1H
X-Robots-Tag:noindex
X-PUBLISHED-TTL:PT1H
BEGIN:VTIMEZONE
TZID:UTC
BEGIN:STANDARD
TZOFFSETFROM:+0000
TZOFFSETTO:+0000
TZNAME:UTC
DTSTART:20240101T000000
END:STANDARD
END:VTIMEZONE
BEGIN:VEVENT
DTSTART;TZID=UTC:20250927T210000
DTEND;TZID=UTC:20250927T230000
DTSTAMP:20260424T164647
CREATED:20250709T191519Z
LAST-MODIFIED:20250826T185441Z
UID:151-1759006800-1759014000@www.hardrockforhelvete.com
SUMMARY:Roy - Mölndal
DESCRIPTION:
URL:https://www.hardrockforhelvete.com/event/roy-molndal/
END:VEVENT
END:VCALENDAR