BEGIN:VCALENDAR
VERSION:2.0
PRODID:-//Hårdrock för helvete - ECPv6.15.20//NONSGML v1.0//EN
CALSCALE:GREGORIAN
METHOD:PUBLISH
X-ORIGINAL-URL:https://www.hardrockforhelvete.com
X-WR-CALDESC:Händelser för Hårdrock för helvete
REFRESH-INTERVAL;VALUE=DURATION:PT1H
X-Robots-Tag:noindex
X-PUBLISHED-TTL:PT1H
BEGIN:VTIMEZONE
TZID:UTC
BEGIN:STANDARD
TZOFFSETFROM:+0000
TZOFFSETTO:+0000
TZNAME:UTC
DTSTART:20240101T000000
END:STANDARD
END:VTIMEZONE
BEGIN:VEVENT
DTSTART;TZID=UTC:20251025T210000
DTEND;TZID=UTC:20251025T233000
DTSTAMP:20260424T194837
CREATED:20250709T191602Z
LAST-MODIFIED:20250826T185536Z
UID:153-1761426000-1761435000@www.hardrockforhelvete.com
SUMMARY:Västerport kök - Varberg
DESCRIPTION:
URL:https://www.hardrockforhelvete.com/event/vasterport-kok-varberg/
END:VEVENT
END:VCALENDAR