BEGIN:VCALENDAR
VERSION:2.0
PRODID:-//Hårdrock för helvete - ECPv6.15.20//NONSGML v1.0//EN
CALSCALE:GREGORIAN
METHOD:PUBLISH
X-ORIGINAL-URL:https://www.hardrockforhelvete.com
X-WR-CALDESC:Händelser för Hårdrock för helvete
REFRESH-INTERVAL;VALUE=DURATION:PT1H
X-Robots-Tag:noindex
X-PUBLISHED-TTL:PT1H
BEGIN:VTIMEZONE
TZID:UTC
BEGIN:STANDARD
TZOFFSETFROM:+0000
TZOFFSETTO:+0000
TZNAME:UTC
DTSTART:20250101T000000
END:STANDARD
END:VTIMEZONE
BEGIN:VEVENT
DTSTART;TZID=UTC:20260530T200000
DTEND;TZID=UTC:20260530T230000
DTSTAMP:20260424T225559
CREATED:20260413T195320Z
LAST-MODIFIED:20260413T195320Z
UID:235-1780171200-1780182000@www.hardrockforhelvete.com
SUMMARY:Rockgården - Påarp
DESCRIPTION:
URL:https://www.hardrockforhelvete.com/event/rockgarden-paarp/
END:VEVENT
END:VCALENDAR