BEGIN:VCALENDAR
VERSION:2.0
PRODID:-//Hårdrock för helvete - ECPv6.15.20//NONSGML v1.0//EN
CALSCALE:GREGORIAN
METHOD:PUBLISH
X-WR-CALNAME:Hårdrock för helvete
X-ORIGINAL-URL:https://www.hardrockforhelvete.com
X-WR-CALDESC:Händelser för Hårdrock för helvete
REFRESH-INTERVAL;VALUE=DURATION:PT1H
X-Robots-Tag:noindex
X-PUBLISHED-TTL:PT1H
BEGIN:VTIMEZONE
TZID:UTC
BEGIN:STANDARD
TZOFFSETFROM:+0000
TZOFFSETTO:+0000
TZNAME:UTC
DTSTART:20250101T000000
END:STANDARD
END:VTIMEZONE
BEGIN:VEVENT
DTSTART;TZID=UTC:20261031T210000
DTEND;TZID=UTC:20261101T000000
DTSTAMP:20260425T112232
CREATED:20260413T202639Z
LAST-MODIFIED:20260413T202639Z
UID:239-1793480400-1793491200@www.hardrockforhelvete.com
SUMMARY:Musikens hus - Göteborg
DESCRIPTION:
URL:https://www.hardrockforhelvete.com/event/musikens-hus-goteborg/
END:VEVENT
END:VCALENDAR