BEGIN:VCALENDAR
VERSION:2.0
PRODID:-//Hårdrock för helvete - ECPv6.15.20//NONSGML v1.0//EN
CALSCALE:GREGORIAN
METHOD:PUBLISH
X-ORIGINAL-URL:https://www.hardrockforhelvete.com
X-WR-CALDESC:Händelser för Hårdrock för helvete
REFRESH-INTERVAL;VALUE=DURATION:PT1H
X-Robots-Tag:noindex
X-PUBLISHED-TTL:PT1H
BEGIN:VTIMEZONE
TZID:UTC
BEGIN:STANDARD
TZOFFSETFROM:+0000
TZOFFSETTO:+0000
TZNAME:UTC
DTSTART:20240101T000000
END:STANDARD
END:VTIMEZONE
BEGIN:VEVENT
DTSTART;TZID=UTC:20251101T210000
DTEND;TZID=UTC:20251101T233000
DTSTAMP:20260424T212729
CREATED:20250709T191633Z
LAST-MODIFIED:20250709T191633Z
UID:155-1762030800-1762039800@www.hardrockforhelvete.com
SUMMARY:King Street Bar - Kristinehamn
DESCRIPTION:
URL:https://www.hardrockforhelvete.com/event/king-street-bar-kristinehamn/
END:VEVENT
BEGIN:VEVENT
DTSTART;TZID=UTC:20251115T210000
DTEND;TZID=UTC:20251115T233000
DTSTAMP:20260424T212729
CREATED:20250910T053827Z
LAST-MODIFIED:20250910T054013Z
UID:189-1763240400-1763249400@www.hardrockforhelvete.com
SUMMARY:Basilika Kitchen & Bar Jönköping
DESCRIPTION:
URL:https://www.hardrockforhelvete.com/event/basilika-kitchen-bar-jonkoping/
END:VEVENT
END:VCALENDAR