BEGIN:VCALENDAR
VERSION:2.0
PRODID:-//Hårdrock för helvete - ECPv6.15.20//NONSGML v1.0//EN
CALSCALE:GREGORIAN
METHOD:PUBLISH
X-WR-CALNAME:Hårdrock för helvete
X-ORIGINAL-URL:https://www.hardrockforhelvete.com
X-WR-CALDESC:Händelser för Hårdrock för helvete
REFRESH-INTERVAL;VALUE=DURATION:PT1H
X-Robots-Tag:noindex
X-PUBLISHED-TTL:PT1H
BEGIN:VTIMEZONE
TZID:UTC
BEGIN:STANDARD
TZOFFSETFROM:+0000
TZOFFSETTO:+0000
TZNAME:UTC
DTSTART:20250101T000000
END:STANDARD
END:VTIMEZONE
BEGIN:VEVENT
DTSTART;TZID=UTC:20260613T170000
DTEND;TZID=UTC:20260614T010000
DTSTAMP:20260424T225319
CREATED:20260215T093816Z
LAST-MODIFIED:20260215T093816Z
UID:225-1781370000-1781398800@www.hardrockforhelvete.com
SUMMARY:Malmö Tribute Fest
DESCRIPTION:
URL:https://www.hardrockforhelvete.com/event/malmo-tribute-fest/
END:VEVENT
BEGIN:VEVENT
DTSTART;TZID=UTC:20260627T210000
DTEND;TZID=UTC:20260628T000000
DTSTAMP:20260424T225319
CREATED:20260215T094116Z
LAST-MODIFIED:20260215T094116Z
UID:228-1782594000-1782604800@www.hardrockforhelvete.com
SUMMARY:Basilika - Jönköping
DESCRIPTION:
URL:https://www.hardrockforhelvete.com/event/basilika-jonkoping/
END:VEVENT
END:VCALENDAR